BEGIN:VCALENDAR
VERSION:2.0
PRODID:-//ChamberMaster//Event Calendar 2.0//EN
METHOD:PUBLISH
X-PUBLISHED-TTL:P3D
REFRESH-INTERVAL:P3D
CALSCALE:GREGORIAN
BEGIN:VEVENT
DTSTART:20260425T180000Z
DTEND:20260425T190000Z
X-MICROSOFT-CDO-ALLDAYEVENT:FALSE
SUMMARY:Town Hall
DESCRIPTION:Gina Hinojosa Candidate for Texas Governor is coming to Nacogdoches.\n\nRoxanne Lathan\, Candidate for the Texas House of Representatives in District 11.\n\nHolly Taylor Court fo Criminal Appeals Place 9
X-ALT-DESC;FMTTYPE=text/html:Gina Hinojosa Candidate for Texas Governor is coming to Nacogdoches.<br />\nRoxanne Lathan\, Candidate for the Texas House of Representatives in District 11.<br />\nHolly Taylor Court fo Criminal Appeals Place 9
LOCATION:Austin Hall - 4601 North St.\, Nacogdoches
UID:e.1393.90715
SEQUENCE:3
DTSTAMP:20260424T091504Z
URL:https://cm-dev.nacogdoches.org/events/details/town-hall-90715
END:VEVENT

END:VCALENDAR
