BEGIN:VCALENDAR
VERSION:2.0
PRODID:-//ChamberMaster//Event Calendar 2.0//EN
METHOD:PUBLISH
X-PUBLISHED-TTL:P3D
REFRESH-INTERVAL:P3D
CALSCALE:GREGORIAN
BEGIN:VEVENT
DTSTART;VALUE=DATE:20361118
DTEND;VALUE=DATE:20361119
TRANSP:TRANSPARENT
X-MICROSOFT-CDO-ALLDAYEVENT:TRUE
SUMMARY:National Entrepreneur's Day
DESCRIPTION:
X-ALT-DESC;FMTTYPE=text/html:
LOCATION:
UID:e.1393.87043
SEQUENCE:3
DTSTAMP:20260423T122604Z
URL:https://cm-dev.nacogdoches.org/events/details/national-entrepreneur-s-day-11-18-2036-87043
END:VEVENT

END:VCALENDAR
