BEGIN:VCALENDAR
VERSION:2.0
PRODID:-//ChamberMaster//Event Calendar 2.0//EN
METHOD:PUBLISH
X-PUBLISHED-TTL:P3D
REFRESH-INTERVAL:P3D
CALSCALE:GREGORIAN
BEGIN:VEVENT
DTSTART:20331017T133000Z
DTEND:20331017T143000Z
X-MICROSOFT-CDO-ALLDAYEVENT:FALSE
SUMMARY:Chamber Stars committee meeting
DESCRIPTION:Chamber Stars committee meeting\n\n3rd Monday of the month
X-ALT-DESC;FMTTYPE=text/html:Chamber Stars committee meeting<br />\n3rd Monday of the month
LOCATION:Chamber Boardroom
UID:e.1393.87194
SEQUENCE:3
DTSTAMP:20260421T033828Z
URL:https://cm-dev.nacogdoches.org/events/details/chamber-stars-committee-meeting-10-17-2033-87194
END:VEVENT

END:VCALENDAR
