BEGIN:VCALENDAR
VERSION:2.0
PRODID:-//ChamberMaster//Event Calendar 2.0//EN
METHOD:PUBLISH
X-PUBLISHED-TTL:P3D
REFRESH-INTERVAL:P3D
CALSCALE:GREGORIAN
BEGIN:VEVENT
DTSTART:20340619T133000Z
DTEND:20340619T143000Z
X-MICROSOFT-CDO-ALLDAYEVENT:FALSE
SUMMARY:Chamber Stars committee meeting
DESCRIPTION:Chamber Stars committee meeting\n\n3rd Monday of the month
X-ALT-DESC;FMTTYPE=text/html:Chamber Stars committee meeting<br />\n3rd Monday of the month
LOCATION:Chamber Boardroom
UID:e.1393.87202
SEQUENCE:3
DTSTAMP:20260421T143700Z
URL:https://cm-dev.nacogdoches.org/events/details/chamber-stars-committee-meeting-06-19-2034-87202
END:VEVENT

END:VCALENDAR
